Package: COSNet Version: 1.45.0 Command: /Library/Frameworks/R.framework/Resources/bin/R CMD build --keep-empty-dirs --no-resave-data COSNet StartedAt: 2025-11-18 16:10:42 -0500 (Tue, 18 Nov 2025) EndedAt: 2025-11-18 16:15:10 -0500 (Tue, 18 Nov 2025) EllapsedTime: 268.0 seconds RetCode: 0 Status: OK PackageFile: COSNet_1.45.0.tar.gz PackageFileSize: 520.3 KiB