Package: COSNet Version: 1.45.0 Command: /Library/Frameworks/R.framework/Resources/bin/R CMD INSTALL COSNet StartedAt: 2025-11-18 15:15:01 -0500 (Tue, 18 Nov 2025) EndedAt: 2025-11-18 15:15:12 -0500 (Tue, 18 Nov 2025) EllapsedTime: 11.1 seconds RetCode: 0 Status: OK