Package: COSNet Version: 1.45.0 Command: /Library/Frameworks/R.framework/Resources/bin/R CMD build --keep-empty-dirs --no-resave-data COSNet StartedAt: 2025-11-18 16:33:28 -0500 (Tue, 18 Nov 2025) EndedAt: 2025-11-18 16:38:53 -0500 (Tue, 18 Nov 2025) EllapsedTime: 324.8 seconds RetCode: 0 Status: OK PackageFile: COSNet_1.45.0.tar.gz PackageFileSize: 519.1 KiB