Package: COSNet Version: 1.45.0 Command: /home/biocbuild/bbs-3.23-bioc/R/bin/R CMD INSTALL COSNet StartedAt: 2025-11-21 15:07:50 -0500 (Fri, 21 Nov 2025) EndedAt: 2025-11-21 15:08:12 -0500 (Fri, 21 Nov 2025) EllapsedTime: 22.4 seconds RetCode: 0 Status: OK