Package: CPSM Version: 1.3.0 Command: /Library/Frameworks/R.framework/Resources/bin/R CMD build --keep-empty-dirs --no-resave-data CPSM StartedAt: 2025-11-24 16:04:36 -0500 (Mon, 24 Nov 2025) EndedAt: 2025-11-24 16:05:35 -0500 (Mon, 24 Nov 2025) EllapsedTime: 59.6 seconds RetCode: 0 Status: OK PackageFile: CPSM_1.3.0.tar.gz PackageFileSize: 4.315 MiB