Package: CPSM Version: 1.3.0 Command: /Library/Frameworks/R.framework/Resources/bin/R CMD INSTALL CPSM StartedAt: 2025-11-24 15:18:33 -0500 (Mon, 24 Nov 2025) EndedAt: 2025-11-24 15:18:47 -0500 (Mon, 24 Nov 2025) EllapsedTime: 13.8 seconds RetCode: 0 Status: OK