Package: CSOA Version: 1.1.0 Command: rm -rf CSOA.buildbin-libdir && mkdir CSOA.buildbin-libdir && /Users/biocbuild/BBS/utils/build-universal.sh CSOA_1.1.0.tar.gz /Library/Frameworks/R.framework/Resources/bin/R CSOA.buildbin-libdir StartedAt: 2025-11-19 23:30:04 -0500 (Wed, 19 Nov 2025) EndedAt: 2025-11-19 23:30:22 -0500 (Wed, 19 Nov 2025) EllapsedTime: 18.4 seconds RetCode: 0 Status: OK PackageFile: CSOA_1.1.0.tgz PackageFileSize: 2.864 MiB