Package: CSOA Version: 1.1.0 Command: /Library/Frameworks/R.framework/Resources/bin/R CMD INSTALL CSOA StartedAt: 2025-11-18 15:21:55 -0500 (Tue, 18 Nov 2025) EndedAt: 2025-11-18 15:22:09 -0500 (Tue, 18 Nov 2025) EllapsedTime: 14.5 seconds RetCode: 0 Status: OK