Package: CSOA Version: 1.1.0 Command: rm -rf CSOA.buildbin-libdir && mkdir CSOA.buildbin-libdir && /Users/biocbuild/BBS/utils/build-universal.sh CSOA_1.1.0.tar.gz /Library/Frameworks/R.framework/Resources/bin/R CSOA.buildbin-libdir StartedAt: 2025-11-20 01:28:30 -0500 (Thu, 20 Nov 2025) EndedAt: 2025-11-20 01:29:26 -0500 (Thu, 20 Nov 2025) EllapsedTime: 55.4 seconds RetCode: 0 Status: OK PackageFile: CSOA_1.1.0.tgz PackageFileSize: 2.863 MiB