Package: CSOA Version: 1.1.0 Command: /Library/Frameworks/R.framework/Resources/bin/R CMD build --keep-empty-dirs --no-resave-data CSOA StartedAt: 2025-11-19 16:39:37 -0500 (Wed, 19 Nov 2025) EndedAt: 2025-11-19 16:42:37 -0500 (Wed, 19 Nov 2025) EllapsedTime: 180.8 seconds RetCode: 0 Status: OK PackageFile: CSOA_1.1.0.tar.gz PackageFileSize: 2.783 MiB