Package: CSOA Version: 1.1.0 Command: /home/biocbuild/bbs-3.23-bioc/R/bin/R CMD INSTALL CSOA StartedAt: 2025-11-18 16:09:59 -0500 (Tue, 18 Nov 2025) EndedAt: 2025-11-18 16:10:37 -0500 (Tue, 18 Nov 2025) EllapsedTime: 37.2 seconds RetCode: 0 Status: OK