Package: CSSQ Version: 1.23.0 Command: rm -rf CSSQ.buildbin-libdir && mkdir CSSQ.buildbin-libdir && /Users/biocbuild/BBS/utils/build-universal.sh CSSQ_1.23.0.tar.gz /Library/Frameworks/R.framework/Resources/bin/R CSSQ.buildbin-libdir StartedAt: 2025-11-19 23:30:06 -0500 (Wed, 19 Nov 2025) EndedAt: 2025-11-19 23:30:24 -0500 (Wed, 19 Nov 2025) EllapsedTime: 18.4 seconds RetCode: 0 Status: OK PackageFile: CSSQ_1.23.0.tgz PackageFileSize: 927.6 KiB