Package: CSSQ Version: 1.23.0 Command: /Library/Frameworks/R.framework/Resources/bin/R CMD build --keep-empty-dirs --no-resave-data CSSQ StartedAt: 2025-11-18 16:13:08 -0500 (Tue, 18 Nov 2025) EndedAt: 2025-11-18 16:13:34 -0500 (Tue, 18 Nov 2025) EllapsedTime: 26.3 seconds RetCode: 0 Status: OK PackageFile: CSSQ_1.23.0.tar.gz PackageFileSize: 866.3 KiB