Package: CSSQ Version: 1.23.0 Command: /Library/Frameworks/R.framework/Resources/bin/R CMD INSTALL CSSQ StartedAt: 2025-11-18 15:30:45 -0500 (Tue, 18 Nov 2025) EndedAt: 2025-11-18 15:31:00 -0500 (Tue, 18 Nov 2025) EllapsedTime: 14.6 seconds RetCode: 0 Status: OK