Package: CSSQ Version: 1.23.0 Command: rm -rf CSSQ.buildbin-libdir && mkdir CSSQ.buildbin-libdir && /Users/biocbuild/BBS/utils/build-universal.sh CSSQ_1.23.0.tar.gz /Library/Frameworks/R.framework/Resources/bin/R CSSQ.buildbin-libdir StartedAt: 2025-11-20 01:28:31 -0500 (Thu, 20 Nov 2025) EndedAt: 2025-11-20 01:29:22 -0500 (Thu, 20 Nov 2025) EllapsedTime: 50.8 seconds RetCode: 0 Status: OK PackageFile: CSSQ_1.23.0.tgz PackageFileSize: 926.5 KiB