Package: CSSQ Version: 1.23.0 Command: /Library/Frameworks/R.framework/Resources/bin/R CMD build --keep-empty-dirs --no-resave-data CSSQ StartedAt: 2025-11-19 16:39:37 -0500 (Wed, 19 Nov 2025) EndedAt: 2025-11-19 16:40:51 -0500 (Wed, 19 Nov 2025) EllapsedTime: 74.4 seconds RetCode: 0 Status: OK PackageFile: CSSQ_1.23.0.tar.gz PackageFileSize: 866.3 KiB