Package: CSSQ Version: 1.23.0 Command: /home/biocbuild/bbs-3.23-bioc/R/bin/R CMD INSTALL CSSQ StartedAt: 2025-11-18 16:31:21 -0500 (Tue, 18 Nov 2025) EndedAt: 2025-11-18 16:31:56 -0500 (Tue, 18 Nov 2025) EllapsedTime: 35.5 seconds RetCode: 0 Status: OK