Package: CellMapper Version: 1.37.0 Command: /Library/Frameworks/R.framework/Resources/bin/R CMD INSTALL CellMapper StartedAt: 2025-11-19 15:08:26 -0500 (Wed, 19 Nov 2025) EndedAt: 2025-11-19 15:08:28 -0500 (Wed, 19 Nov 2025) EllapsedTime: 2.7 seconds RetCode: 0 Status: OK