Package: CellMapper Version: 1.37.0 Command: rm -rf CellMapper.buildbin-libdir && mkdir CellMapper.buildbin-libdir && /Users/biocbuild/BBS/utils/build-universal.sh CellMapper_1.37.0.tar.gz /Library/Frameworks/R.framework/Resources/bin/R CellMapper.buildbin-libdir StartedAt: 2025-11-20 01:24:55 -0500 (Thu, 20 Nov 2025) EndedAt: 2025-11-20 01:25:06 -0500 (Thu, 20 Nov 2025) EllapsedTime: 10.3 seconds RetCode: 0 Status: OK PackageFile: CellMapper_1.37.0.tgz PackageFileSize: 350.6 KiB