Package: CellMapper Version: 1.37.0 Command: /Library/Frameworks/R.framework/Resources/bin/R CMD build --keep-empty-dirs --no-resave-data CellMapper StartedAt: 2025-11-19 16:24:56 -0500 (Wed, 19 Nov 2025) EndedAt: 2025-11-19 16:26:37 -0500 (Wed, 19 Nov 2025) EllapsedTime: 100.7 seconds RetCode: 0 Status: OK PackageFile: CellMapper_1.37.0.tar.gz PackageFileSize: 205.4 KiB