Package: CellMapper Version: 1.37.0 Command: /Library/Frameworks/R.framework/Resources/bin/R CMD INSTALL CellMapper StartedAt: 2025-11-19 15:20:20 -0500 (Wed, 19 Nov 2025) EndedAt: 2025-11-19 15:20:32 -0500 (Wed, 19 Nov 2025) EllapsedTime: 12.2 seconds RetCode: 0 Status: OK