Package: ChIPComp Version: 1.41.0 Command: rm -rf ChIPComp.buildbin-libdir && mkdir ChIPComp.buildbin-libdir && /Users/biocbuild/BBS/utils/build-universal.sh ChIPComp_1.41.0.tar.gz /Library/Frameworks/R.framework/Resources/bin/R ChIPComp.buildbin-libdir StartedAt: 2025-11-18 23:34:32 -0500 (Tue, 18 Nov 2025) EndedAt: 2025-11-18 23:34:49 -0500 (Tue, 18 Nov 2025) EllapsedTime: 17.3 seconds RetCode: 0 Status: OK PackageFile: ChIPComp_1.41.0.tgz PackageFileSize: 639.5 KiB