Package: ChromHeatMap Version: 1.65.0 Command: rm -rf ChromHeatMap.buildbin-libdir && mkdir ChromHeatMap.buildbin-libdir && /Users/biocbuild/BBS/utils/build-universal.sh ChromHeatMap_1.65.0.tar.gz /Library/Frameworks/R.framework/Resources/bin/R ChromHeatMap.buildbin-libdir StartedAt: 2025-11-18 23:34:53 -0500 (Tue, 18 Nov 2025) EndedAt: 2025-11-18 23:35:11 -0500 (Tue, 18 Nov 2025) EllapsedTime: 17.5 seconds RetCode: 0 Status: OK PackageFile: ChromHeatMap_1.65.0.tgz PackageFileSize: 675 KiB