Package: ChromHeatMap Version: 1.65.0 Command: /Library/Frameworks/R.framework/Resources/bin/R CMD build --keep-empty-dirs --no-resave-data ChromHeatMap StartedAt: 2025-11-18 16:04:42 -0500 (Tue, 18 Nov 2025) EndedAt: 2025-11-18 16:05:02 -0500 (Tue, 18 Nov 2025) EllapsedTime: 20.2 seconds RetCode: 0 Status: OK PackageFile: ChromHeatMap_1.65.0.tar.gz PackageFileSize: 318.3 KiB