Package: ChromHeatMap Version: 1.65.0 Command: /Library/Frameworks/R.framework/Resources/bin/R CMD INSTALL ChromHeatMap StartedAt: 2025-11-18 15:27:17 -0500 (Tue, 18 Nov 2025) EndedAt: 2025-11-18 15:27:31 -0500 (Tue, 18 Nov 2025) EllapsedTime: 14.0 seconds RetCode: 0 Status: OK