Package: ClassifyR Version: 3.15.0 Command: /Library/Frameworks/R.framework/Resources/bin/R CMD INSTALL ClassifyR StartedAt: 2025-11-18 15:23:47 -0500 (Tue, 18 Nov 2025) EndedAt: 2025-11-18 15:24:01 -0500 (Tue, 18 Nov 2025) EllapsedTime: 13.8 seconds RetCode: 0 Status: OK