Package: ClassifyR Version: 3.15.0 Command: /Library/Frameworks/R.framework/Resources/bin/R CMD build --keep-empty-dirs --no-resave-data ClassifyR StartedAt: 2025-11-18 16:27:12 -0500 (Tue, 18 Nov 2025) EndedAt: 2025-11-18 16:29:18 -0500 (Tue, 18 Nov 2025) EllapsedTime: 126.8 seconds RetCode: 0 Status: OK PackageFile: ClassifyR_3.15.0.tar.gz PackageFileSize: 2.304 MiB