Package: ClassifyR Version: 3.15.0 Command: /home/biocbuild/bbs-3.23-bioc/R/bin/R CMD build --keep-empty-dirs --no-resave-data ClassifyR StartedAt: 2025-11-18 17:42:06 -0500 (Tue, 18 Nov 2025) EndedAt: 2025-11-18 17:43:59 -0500 (Tue, 18 Nov 2025) EllapsedTime: 112.1 seconds RetCode: 0 Status: OK PackageFile: ClassifyR_3.15.0.tar.gz PackageFileSize: 2.412 MiB