Package: ClassifyR Version: 3.15.0 Command: /home/biocbuild/bbs-3.23-bioc/R/bin/R CMD INSTALL ClassifyR StartedAt: 2025-11-18 16:21:40 -0500 (Tue, 18 Nov 2025) EndedAt: 2025-11-18 16:22:14 -0500 (Tue, 18 Nov 2025) EllapsedTime: 34.2 seconds RetCode: 0 Status: OK