Package: ClusterSignificance Version: 1.39.0 Command: rm -rf ClusterSignificance.buildbin-libdir && mkdir ClusterSignificance.buildbin-libdir && /Users/biocbuild/BBS/utils/build-universal.sh ClusterSignificance_1.39.0.tar.gz /Library/Frameworks/R.framework/Resources/bin/R ClusterSignificance.buildbin-libdir StartedAt: 2025-11-25 23:28:16 -0500 (Tue, 25 Nov 2025) EndedAt: 2025-11-25 23:28:19 -0500 (Tue, 25 Nov 2025) EllapsedTime: 3.1 seconds RetCode: 0 Status: OK PackageFile: ClusterSignificance_1.39.0.tgz PackageFileSize: 2.309 MiB