Package: ClusterSignificance Version: 1.39.0 Command: /Library/Frameworks/R.framework/Resources/bin/R CMD build --keep-empty-dirs --no-resave-data ClusterSignificance StartedAt: 2025-11-25 15:56:20 -0500 (Tue, 25 Nov 2025) EndedAt: 2025-11-25 15:56:40 -0500 (Tue, 25 Nov 2025) EllapsedTime: 20.2 seconds RetCode: 0 Status: OK PackageFile: ClusterSignificance_1.39.0.tar.gz PackageFileSize: 2.113 MiB