Package: ClusterSignificance Version: 1.39.0 Command: /Library/Frameworks/R.framework/Resources/bin/R CMD INSTALL ClusterSignificance StartedAt: 2025-11-26 15:03:55 -0500 (Wed, 26 Nov 2025) EndedAt: 2025-11-26 15:04:01 -0500 (Wed, 26 Nov 2025) EllapsedTime: 6.3 seconds RetCode: 0 Status: OK