Package: CompoundDb Version: 1.15.0 Command: /Library/Frameworks/R.framework/Resources/bin/R CMD INSTALL CompoundDb StartedAt: 2025-11-18 15:29:52 -0500 (Tue, 18 Nov 2025) EndedAt: 2025-11-18 15:30:00 -0500 (Tue, 18 Nov 2025) EllapsedTime: 7.6 seconds RetCode: 0 Status: OK