Package: CompoundDb Version: 1.15.0 Command: /Library/Frameworks/R.framework/Resources/bin/R CMD build --keep-empty-dirs --no-resave-data CompoundDb StartedAt: 2025-11-19 16:34:55 -0500 (Wed, 19 Nov 2025) EndedAt: 2025-11-19 16:35:43 -0500 (Wed, 19 Nov 2025) EllapsedTime: 48.1 seconds RetCode: 0 Status: OK PackageFile: CompoundDb_1.15.0.tar.gz PackageFileSize: 1.303 MiB