Package: CompoundDb Version: 1.15.0 Command: /Library/Frameworks/R.framework/Resources/bin/R CMD INSTALL CompoundDb StartedAt: 2025-11-19 15:38:38 -0500 (Wed, 19 Nov 2025) EndedAt: 2025-11-19 15:39:06 -0500 (Wed, 19 Nov 2025) EllapsedTime: 28.1 seconds RetCode: 0 Status: OK