Package: CompoundDb Version: 1.15.0 Command: /home/biocbuild/bbs-3.23-bioc/R/bin/R CMD build --keep-empty-dirs --no-resave-data CompoundDb StartedAt: 2025-11-19 17:00:29 -0500 (Wed, 19 Nov 2025) EndedAt: 2025-11-19 17:01:04 -0500 (Wed, 19 Nov 2025) EllapsedTime: 35.0 seconds RetCode: 0 Status: OK PackageFile: CompoundDb_1.15.0.tar.gz PackageFileSize: 1.303 MiB