Package: CompoundDb Version: 1.15.0 Command: /home/biocbuild/bbs-3.23-bioc/R/bin/R CMD INSTALL CompoundDb StartedAt: 2025-11-18 16:29:06 -0500 (Tue, 18 Nov 2025) EndedAt: 2025-11-18 16:29:27 -0500 (Tue, 18 Nov 2025) EllapsedTime: 20.6 seconds RetCode: 0 Status: OK