Package: ConsensusClusterPlus Version: 1.75.0 Command: rm -rf ConsensusClusterPlus.buildbin-libdir && mkdir ConsensusClusterPlus.buildbin-libdir && /Users/biocbuild/BBS/utils/build-universal.sh ConsensusClusterPlus_1.75.0.tar.gz /Library/Frameworks/R.framework/Resources/bin/R ConsensusClusterPlus.buildbin-libdir StartedAt: 2025-11-19 23:29:17 -0500 (Wed, 19 Nov 2025) EndedAt: 2025-11-19 23:29:20 -0500 (Wed, 19 Nov 2025) EllapsedTime: 3.1 seconds RetCode: 0 Status: OK PackageFile: ConsensusClusterPlus_1.75.0.tgz PackageFileSize: 412.9 KiB