Package: ConsensusClusterPlus Version: 1.75.0 Command: /Library/Frameworks/R.framework/Resources/bin/R CMD INSTALL ConsensusClusterPlus StartedAt: 2025-11-19 15:08:49 -0500 (Wed, 19 Nov 2025) EndedAt: 2025-11-19 15:08:51 -0500 (Wed, 19 Nov 2025) EllapsedTime: 1.5 seconds RetCode: 0 Status: OK