Package: ConsensusClusterPlus Version: 1.75.0 Command: /Library/Frameworks/R.framework/Resources/bin/R CMD build --keep-empty-dirs --no-resave-data ConsensusClusterPlus StartedAt: 2025-11-19 16:35:30 -0500 (Wed, 19 Nov 2025) EndedAt: 2025-11-19 16:35:44 -0500 (Wed, 19 Nov 2025) EllapsedTime: 14.9 seconds RetCode: 0 Status: OK PackageFile: ConsensusClusterPlus_1.75.0.tar.gz PackageFileSize: 382.5 KiB