Package: ConsensusClusterPlus Version: 1.75.0 Command: /Library/Frameworks/R.framework/Resources/bin/R CMD INSTALL ConsensusClusterPlus StartedAt: 2025-11-19 15:20:47 -0500 (Wed, 19 Nov 2025) EndedAt: 2025-11-19 15:20:54 -0500 (Wed, 19 Nov 2025) EllapsedTime: 7.0 seconds RetCode: 0 Status: OK