Package: ConsensusClusterPlus Version: 1.75.0 Command: /home/biocbuild/bbs-3.23-bioc/R/bin/R CMD INSTALL ConsensusClusterPlus StartedAt: 2025-11-19 15:16:27 -0500 (Wed, 19 Nov 2025) EndedAt: 2025-11-19 15:16:30 -0500 (Wed, 19 Nov 2025) EllapsedTime: 2.8 seconds RetCode: 0 Status: OK