Package: CoverageView Version: 1.49.0 Command: rm -rf CoverageView.buildbin-libdir && mkdir CoverageView.buildbin-libdir && /Users/biocbuild/BBS/utils/build-universal.sh CoverageView_1.49.0.tar.gz /Library/Frameworks/R.framework/Resources/bin/R CoverageView.buildbin-libdir StartedAt: 2025-11-19 23:29:40 -0500 (Wed, 19 Nov 2025) EndedAt: 2025-11-19 23:29:56 -0500 (Wed, 19 Nov 2025) EllapsedTime: 15.3 seconds RetCode: 0 Status: OK PackageFile: CoverageView_1.49.0.tgz PackageFileSize: 2.958 MiB