Package: CoverageView Version: 1.49.0 Command: /Library/Frameworks/R.framework/Resources/bin/R CMD build --keep-empty-dirs --no-resave-data CoverageView StartedAt: 2025-11-19 16:01:26 -0500 (Wed, 19 Nov 2025) EndedAt: 2025-11-19 16:01:51 -0500 (Wed, 19 Nov 2025) EllapsedTime: 24.2 seconds RetCode: 0 Status: OK PackageFile: CoverageView_1.49.0.tar.gz PackageFileSize: 2.554 MiB