Package: CoverageView Version: 1.49.0 Command: /Library/Frameworks/R.framework/Resources/bin/R CMD INSTALL CoverageView StartedAt: 2025-11-19 15:18:15 -0500 (Wed, 19 Nov 2025) EndedAt: 2025-11-19 15:18:28 -0500 (Wed, 19 Nov 2025) EllapsedTime: 13.1 seconds RetCode: 0 Status: OK