Package: CytoML Version: 2.23.0 Command: /Library/Frameworks/R.framework/Resources/bin/R CMD build --keep-empty-dirs --no-resave-data CytoML StartedAt: 2025-11-21 16:04:05 -0500 (Fri, 21 Nov 2025) EndedAt: 2025-11-21 16:04:40 -0500 (Fri, 21 Nov 2025) EllapsedTime: 35.4 seconds RetCode: 0 Status: OK PackageFile: CytoML_2.23.0.tar.gz PackageFileSize: 8.566 MiB