Package: CytoML Version: 2.23.0 Command: /Library/Frameworks/R.framework/Resources/bin/R CMD INSTALL CytoML StartedAt: 2025-11-21 15:11:42 -0500 (Fri, 21 Nov 2025) EndedAt: 2025-11-21 15:12:02 -0500 (Fri, 21 Nov 2025) EllapsedTime: 20.1 seconds RetCode: 0 Status: OK