Package: CytoPipeline Version: 1.11.0 Command: /Library/Frameworks/R.framework/Resources/bin/R CMD build --keep-empty-dirs --no-resave-data CytoPipeline StartedAt: 2025-11-18 16:15:10 -0500 (Tue, 18 Nov 2025) EndedAt: 2025-11-18 16:15:30 -0500 (Tue, 18 Nov 2025) EllapsedTime: 20.2 seconds RetCode: 0 Status: OK PackageFile: CytoPipeline_1.11.0.tar.gz PackageFileSize: 3.346 MiB