Package: CytoPipeline Version: 1.11.0 Command: rm -rf CytoPipeline.buildbin-libdir && mkdir CytoPipeline.buildbin-libdir && /Users/biocbuild/BBS/utils/build-universal.sh CytoPipeline_1.11.0.tar.gz /Library/Frameworks/R.framework/Resources/bin/R CytoPipeline.buildbin-libdir StartedAt: 2025-11-27 01:28:14 -0500 (Thu, 27 Nov 2025) EndedAt: 2025-11-27 01:28:41 -0500 (Thu, 27 Nov 2025) EllapsedTime: 26.7 seconds RetCode: 0 Status: OK PackageFile: CytoPipeline_1.11.0.tgz PackageFileSize: 3.527 MiB