Package: CytoPipeline Version: 1.11.0 Command: /Library/Frameworks/R.framework/Resources/bin/R CMD build --keep-empty-dirs --no-resave-data CytoPipeline StartedAt: 2025-11-25 16:53:43 -0500 (Tue, 25 Nov 2025) EndedAt: 2025-11-25 16:54:46 -0500 (Tue, 25 Nov 2025) EllapsedTime: 62.8 seconds RetCode: 0 Status: OK PackageFile: CytoPipeline_1.11.0.tar.gz PackageFileSize: 3.345 MiB